Workbook

Sheet RAID
B2: RAID DE ARGANTZUN 40 KM
B3: ARGANTZUN 40 KM
B5: LUGAR | C5: ARGANTZUN | F5: TIPO CONTROL VELOCIDAD | G5: CONTROLADA | J5: (LIBRE/CONTROLADA)
B6: FECHA | C6: 44646 | F6: HORA SALIDA | G6: 0.4375
B7: VELOCIDAD MÁXIMA | C7: 15 | D7: Km/H | F7: DESCANSO OBLIGATORIO | G7: 0.020833333 | H7: Horas
B8: VELOCIDAD MÍNIMA | C8: 9 | D8: Km/H | F8: TIEMPO MINIMO | G8: =C24+G24+K24 -> 0.12222222 | H8: Horas
B9: NUMERO DE FASES | C9: 2 | F9: TIEMPO MAXIMO | G9: =C28+G28+K28 -> 0.2037037 | H9: Horas
B10: DISTANCIA | C10: 44 | D10: Km | F10: CIERRE CONTROL | G10: =G6+C28+C32+G28+G32+K28 -> 0.66203704 | H10: Horas
B14: FASE | C14: 1 | F14: FASE | G14: 2 | J14: FASE | K14: 3 | N14: FASE | O14: 4 | R14: FASE | S14: 5 | V14: FASE | W14: 6 | Z14: FASE | AA14: 7 | AD14: FASE | AE14: 8 | AH14: FASE | AI14: 9
B16: SALIDA | C16: ARGANTZUN | F16: SALIDA | G16: =C17 -> ARGANTZUN | J16: SALIDA | K16: =C17 -> ARGANTZUN | N16: SALIDA | O16: =K16 -> ARGANTZUN | R16: SALIDA | S16: =O16 -> ARGANTZUN | V16: SALIDA | W16: =S16 -> ARGANTZUN | Z16: SALIDA | AA16: =W16 -> ARGANTZUN | AD16: SALIDA | AE16: =AA16 -> ARGANTZUN | AH16: SALIDA | AI16: =AE16 -> ARGANTZUN
B17: LLEGADA | C17: =C16 -> ARGANTZUN | F17: LLEGADA | G17: =C17 -> ARGANTZUN | J17: LLEGADA | K17: =C17 -> ARGANTZUN | N17: LLEGADA | O17: =K17 -> ARGANTZUN | R17: LLEGADA | S17: =O17 -> ARGANTZUN | V17: LLEGADA | W17: =S17 -> ARGANTZUN | Z17: LLEGADA | AA17: =W17 -> ARGANTZUN | AD17: LLEGADA | AE17: =AA17 -> ARGANTZUN | AH17: LLEGADA | AI17: =AE17 -> ARGANTZUN
B18: DISTANCIA | C18: 22 | D18: Km | F18: DISTANCIA | G18: 22 | H18: Km | J18: DISTANCIA | L18: Km | N18: DISTANCIA | O18: 30 | P18: Km | R18: DISTANCIA | S18: 30 | T18: Km | V18: DISTANCIA | W18: 30 | X18: Km | Z18: DISTANCIA | AA18: 30 | AB18: Km | AD18: DISTANCIA | AE18: 30 | AF18: Km | AH18: DISTANCIA | AI18: 30 | AJ18: Km
B19: VELOCIDAD MÁXIMA | C19: =C7 -> 15 | D19: Km/H | F19: VELOCIDAD MÁXIMA | G19: =C7 -> 15 | H19: Km/H | J19: VELOCIDAD MÁXIMA | K19: =C7 -> 15 | L19: Km/H | N19: VELOCIDAD MÁXIMA | O19: 15 | P19: Km/H | R19: VELOCIDAD MÁXIMA | S19: 15 | T19: Km/H | V19: VELOCIDAD MÁXIMA | W19: 15 | X19: Km/H | Z19: VELOCIDAD MÁXIMA | AA19: 15 | AB19: Km/H | AD19: VELOCIDAD MÁXIMA | AE19: 15 | AF19: Km/H | AH19: VELOCIDAD MÁXIMA | AI19: 15 | AJ19: Km/H
B20: VELOCIDAD MÍNIMA | C20: =C8 -> 9 | D20: Km/H | F20: VELOCIDAD MÍNIMA | G20: =C8 -> 9 | H20: Km/H | J20: VELOCIDAD MÍNIMA | K20: =C8 -> 9 | L20: Km/H | N20: VELOCIDAD MÍNIMA | O20: =C8 -> 9 | P20: Km/H | R20: VELOCIDAD MÍNIMA | S20: 10 | T20: Km/H | V20: VELOCIDAD MÍNIMA | W20: 10 | X20: Km/H | Z20: VELOCIDAD MÍNIMA | AA20: 10 | AB20: Km/H | AD20: VELOCIDAD MÍNIMA | AE20: 10 | AF20: Km/H | AH20: VELOCIDAD MÍNIMA | AI20: 10 | AJ20: Km/H
B21: TIEMPO PRESENTACION | C21: 0.013888889 | D21: Horas | F21: TIEMPO PRESENTACION | G21: 0.013888889 | H21: Horas | J21: TIEMPO PRESENTACION | L21: Horas | N21: TIEMPO PRESENTACION | O21: 0.013888889 | P21: Horas | R21: TIEMPO PRESENTACION | S21: =C8 -> 9 | T21: Horas | V21: TIEMPO PRESENTACION | W21: 0.013888889 | X21: Horas | Z21: TIEMPO PRESENTACION | AA21: 0.013888889 | AB21: Horas | AD21: TIEMPO PRESENTACION | AE21: 0.013888889 | AF21: Horas | AH21: TIEMPO PRESENTACION | AI21: 0.013888889 | AJ21: Horas
B23: HORA SALIDA | C23: =G6 -> 0.4375 | D23: Horas | F23: HORA SALIDA | G23: Vet-Gate | H23: Horas | J23: HORA SALIDA | K23: Vet-Gate | L23: Horas | N23: HORA SALIDA | O23: Vet-Gate | P23: Horas | R23: HORA SALIDA | S23: Vet-Gate | T23: Horas | V23: HORA SALIDA | W23: Vet-Gate | X23: Horas | Z23: HORA SALIDA | AA23: Vet-Gate | AB23: Horas | AD23: HORA SALIDA | AE23: Vet-Gate | AF23: Horas | AH23: HORA SALIDA | AI23: Vet-Gate | AJ23: Horas
B24: TIEMPO MÍNIMO | C24: =+((C18*3600/C19)/3600)/24 -> 0.061111111 | D24: Horas | F24: TIEMPO MÍNIMO | G24: =+((G18*3600/G19)/3600)/24 -> 0.061111111 | H24: Horas | J24: TIEMPO MÍNIMO | K24: =+((K18*3600/K19)/3600)/24 -> 0 | L24: Horas | N24: TIEMPO MÍNIMO | O24: =+((O18*3600/O19)/3600)/24 -> 0.083333333 | P24: Horas | R24: TIEMPO MÍNIMO | S24: =+((S18*3600/S19)/3600)/24 -> 0.083333333 | T24: Horas | V24: TIEMPO MÍNIMO | W24: =+((W18*3600/W19)/3600)/24 -> 0.083333333 | X24: Horas | Z24: TIEMPO MÍNIMO | AA24: =+((AA18*3600/AA19)/3600)/24 -> 0.083333333 | AB24: Horas | AD24: TIEMPO MÍNIMO | AE24: =+((AE18*3600/AE19)/3600)/24 -> 0.083333333 | AF24: Horas | AH24: TIEMPO MÍNIMO | AI24: =+((AI18*3600/AI19)/3600)/24 -> 0.083333333 | AJ24: Horas
B25: HORA MINIMA LLEGADA | C25: =C23+C24 -> 0.49861111 | D25: Horas | F25: HORA MINIMA LLEGADA | G25: =C25+C32+G24 -> 0.58055556 | H25: Horas | J25: HORA MINIMA LLEGADA | K25: =G25+G32+K24 -> 0.58055556 | L25: Horas | N25: HORA MINIMA LLEGADA | O25: =K25+K32+O24 -> 0.66388889 | P25: Horas | R25: HORA MINIMA LLEGADA | S25: =O25+O32+S24 -> 0.74722222 | T25: Horas | V25: HORA MINIMA LLEGADA | W25: =S25+S32+W24 -> 0.83055556 | X25: Horas | Z25: HORA MINIMA LLEGADA | AA25: =W25+W32+AA24 -> 0.91388889 | AB25: Horas | AD25: HORA MINIMA LLEGADA | AE25: =AA25+AA32+AE24 -> 0.99722222 | AF25: Horas | AH25: HORA MINIMA LLEGADA | AI25: =AE25+AE32+AI24 -> 1.0805556 | AJ25: Horas
B27: HORA SALIDA | C27: =C23 -> 0.4375 | D27: Horas | F27: HORA SALIDA | G27: Vet-Gate | H27: Horas | J27: HORA SALIDA | K27: Vet-Gate | L27: Horas | N27: HORA SALIDA | O27: Vet-Gate | P27: Horas | R27: HORA SALIDA | S27: Vet-Gate | T27: Horas | V27: HORA SALIDA | W27: Vet-Gate | X27: Horas | Z27: HORA SALIDA | AA27: Vet-Gate | AB27: Horas | AD27: HORA SALIDA | AE27: Vet-Gate | AF27: Horas | AH27: HORA SALIDA | AI27: Vet-Gate | AJ27: Horas
B28: TIEMPO MAXIMO LLEGADA | C28: =((C18*3600/C20)/3600)/24 -> 0.10185185 | D28: Horas | F28: TIEMPO MAXIMO LLEGADA | G28: =((G18*3600/G20)/3600)/24 -> 0.10185185 | H28: Horas | J28: TIEMPO MAXIMO LLEGADA | K28: =((K18*3600/K20)/3600)/24 -> 0 | L28: Horas | N28: TIEMPO MAXIMO LLEGADA | O28: =((O18*3600/O20)/3600)/24 -> 0.13888889 | P28: Horas | R28: TIEMPO MAXIMO LLEGADA | S28: =((S18*3600/S20)/3600)/24 -> 0.125 | T28: Horas | V28: TIEMPO MAXIMO LLEGADA | W28: =((W18*3600/W20)/3600)/24 -> 0.125 | X28: Horas | Z28: TIEMPO MAXIMO LLEGADA | AA28: =((AA18*3600/AA20)/3600)/24 -> 0.125 | AB28: Horas | AD28: TIEMPO MAXIMO LLEGADA | AE28: =((AE18*3600/AE20)/3600)/24 -> 0.125 | AF28: Horas | AH28: TIEMPO MAXIMO LLEGADA | AI28: =((AI18*3600/AI20)/3600)/24 -> 0.125 | AJ28: Horas
B29: HORA MAXIMA LLEGADA | C29: =C23+C28 -> 0.53935185 | D29: Horas | F29: HORA MAXIMA LLEGADA | G29: =C29+C32+G28 -> 0.66203704 | H29: Horas | J29: HORA MAXIMA LLEGADA | K29: =G29+G32+K28 -> 0.66203704 | L29: Horas | N29: HORA MAXIMA LLEGADA | O29: =K29+K32+O28 -> 0.80092593 | P29: Horas | R29: HORA MAXIMA LLEGADA | S29: =O29+O32+S28 -> 0.92592593 | T29: Horas | V29: HORA MAXIMA LLEGADA | W29: =S29+S32+W28 -> 1.0509259 | X29: Horas | Z29: HORA MAXIMA LLEGADA | AA29: =W29+W32+AA28 -> 1.1759259 | AB29: Horas | AD29: HORA MAXIMA LLEGADA | AE29: =AA29+AA32+AE28 -> 1.3009259 | AF29: Horas | AH29: HORA MAXIMA LLEGADA | AI29: =AE29+AE32+AI28 -> 1.4259259 | AJ29: Horas
B31: CIERRE CONTROL FASE 1 | C31: =C29 -> 0.53935185 | D31: Horas | F31: CIERRE CONTROL FASE 2 | G31: =C31+C32+G28 -> 0.66203704 | H31: Horas | J31: CIERRE CONTROL FASE 2 | K31: =G31+G32+K28 -> 0.66203704 | L31: Horas | N31: CIERRE CONTROL FASE 2 | O31: =K31+K32+O28 -> 0.80092593 | P31: Horas | R31: CIERRE CONTROL FASE 2 | S31: =O31+O32+S28 -> 0.92592593 | T31: Horas | V31: CIERRE CONTROL FASE 2 | W31: =S31+S32+W28 -> 1.0509259 | X31: Horas | Z31: CIERRE CONTROL FASE 2 | AA31: =W31+W32+AA28 -> 1.1759259 | AB31: Horas | AD31: CIERRE CONTROL FASE 2 | AE31: =AA31+AA32+AE28 -> 1.3009259 | AF31: Horas | AH31: CIERRE CONTROL FASE 2 | AI31: =AE31+AE32+AI28 -> 1.4259259 | AJ31: Horas
B32: DESCANSO OBLIGATORIO | C32: =G7 -> 0.020833333 | D32: Horas | F32: DESCANSO OBLIGATORIO | H32: Horas | J32: DESCANSO OBLIGATORIO | K32: 0 | L32: Horas | N32: DESCANSO OBLIGATORIO | O32: =O7 -> 0 | P32: Horas | R32: DESCANSO OBLIGATORIO | S32: =S7 -> 0 | T32: Horas | V32: DESCANSO OBLIGATORIO | W32: =W7 -> 0 | X32: Horas | Z32: DESCANSO OBLIGATORIO | AA32: =AA7 -> 0 | AB32: Horas | AD32: DESCANSO OBLIGATORIO | AE32: =AE7 -> 0 | AF32: Horas | AH32: DESCANSO OBLIGATORIO | AI32: =AI7 -> 0 | AJ32: Horas

Sheet PARTICIPANTES
B2: =RAID!B2 -> RAID DE ARGANTZUN 40 KM
B3: =RAID!B3 -> ARGANTZUN 40 KM
B5: DORSAL | C5: Federación | D5: JINETE | E5: LDN | F5: CABALLO | G5: LAC | H5: LIC/Pass | I5: AÑO | J5: Sexo | K5: RAZA | L5: CAPA
B6: 40 | D6: Nagore BALANZATEGI AGIRRE | E6: 159234 | F6: IPAKITO DEL VENT, AA 80,81 % | G6: 151361
B7: 41 | D7: Antonio MICHAUS GALLARDO | E7: 325183 | F7: CALESI BAR | G7: 151894
B8: 45 | D8: Diego RUIZ SAN ROMAN | E8: 227993 | F8: FYTY DE BELENE | G8: 151891
B9: 43 | D9: Borja ASENJO ANDRACA | E9: 167492 | F9: AGOI KILATES | G9: 120004
B10: 46 | D10: Eva PECHARROMAN VEGA | E10: 251410 | F10: FLACO | G10: 122563
B11: 42 | D11: Susana HEREDIA SANCHEZ | E11: 36918 | F11: CURNI BAR | G11: 151893
B12: 48 | D12: Ruth GUILABERT SEGURA | E12: 325138 | F12: BISKRA-JAYF | G12: 151684
B13: 49 | D13: Osertz LEJARRETA GARROGUERRICAECHEVARRIA | E13: 16485 | F13: ERE MIK DE DAHESSAN | G13: 146405
B14: 44 | D14: Jorge NEGRETE GUTIERREZ | E14: 45193 | F14: REDBULL | G14: 122645
B15: 47 | D15: Luis Maikel CUBAS ACOSTA | E15: 19059 | F15: NUR DA CAMOEIRA | G15: 149411
B105: =COUNT(B6:B104) -> 10 | C105: Participantes

Sheet FASE 1
B2: =RAID!B2 -> RAID DE ARGANTZUN 40 KM
B3: =RAID!B3 -> ARGANTZUN 40 KM
B5: HORA DE SALIDA | E5: =RAID!$G$6 -> 0.4375 | G5: TIEMPO PRESENTACION | J5: =HLOOKUP(INT($E$8),RAID!$B$14:$AJ$32,8,FALSE) -> 0.013888889 | L5: KM FASE | N5: =HLOOKUP(INT($E$8),RAID!$B$14:$AJ$32,5,FALSE) -> 22
B6: HORA MINIMA LLEGADA | E6: =HLOOKUP(INT($E$8),RAID!$B$14:$AJ$32,12,FALSE) -> 0.49861111 | G6: TIEMPO MINIMO MARCHA | J6: =HLOOKUP(INT($E$8),RAID!$B$14:$AJ$32,11,FALSE) -> 0.061111111 | L6: VEL MAX | N6: =HLOOKUP(INT($E$8),RAID!$B$14:$AJ$32,6,FALSE) -> 15
B7: HORA MAXIMA LLEGADA | E7: =HLOOKUP(INT($E$8),RAID!$B$14:$AJ$32,16,FALSE) -> 0.53935185 | G7: TIEMPO MAXIMO MARCHA | J7: =HLOOKUP(INT($E$8),RAID!$B$14:$AJ$32,15,FALSE) -> 0.10185185 | L7: VEL MIN | N7: =HLOOKUP(INT($E$8),RAID!$B$14:$AJ$32,7,FALSE) -> 9
B8: FASE | E8: =RIGHT(CELL("filename",A1),1) -> 1 | G8: DESCANSO FASE | J8: =HLOOKUP(INT($E$8),RAID!$B$14:$AJ$32,19,FALSE) -> 0.020833333
B10: DORSAL | C10: FEDER. | D10: JINETE | E10: CABALLO | F10: HORA SALIDA | G10: HORA LLEGADA | H10: HORA VET-GATE | I10: RECUPERACIÓN | J10: TIEMPO MARCHA | K10: VEL MARCHA | L10: VEL MEDIA | M10: VET | N10: HORA SALIDA | O10: RAZON | P10: HORA MINIMA LLEGADA | Q10: HORA MAXIMA DE LLEGADA | R10: VEL ACU MARCHA | S10: VEL ACU MEDIA | T10: HORA MINIMA DE LLEGADA F+1 | U10: HORA MAXIMA DE LLEGADA F+1
B11: 40 | D11: Nagore BALANZATEGI AGIRRE | E11: IPAKITO DEL VENT, AA 80,81 % | F11: 0.4375 | G11: 0.51527778 | H11: 0.52071759 | I11: 0.0054398148 | J11: 0.077777778 | K11: 11.785714 | L11: 11.015299 | N11: 0.54155093 | P11: 0.49861111 | Q11: 0.53935185 | R11: 11.785714 | S11: 11.015299 | T11: 0.60266204 | U11: 0.64340278
B12: 41 | D12: Antonio MICHAUS GALLARDO | E12: CALESI BAR | F12: 0.4375 | G12: 0.49936343 | H12: 0.50452546 | I12: 0.005162037 | J12: 0.061863426 | K12: 14.817587 | L12: 13.676394 | N12: 0.5253588 | P12: 0.49861111 | Q12: 0.53935185 | R12: 14.817587 | S12: 13.676394 | T12: 0.58646991 | U12: 0.62721065
B13: 45 | D13: Diego RUIZ SAN ROMAN | E13: FYTY DE BELENE | F13: 0.4375 | G13: 0.49934028 | H13: 0.49993056 | I13: 0.00059027778 | J13: 0.061840278 | K13: 14.823133 | L13: 14.682981 | N13: 0.52076389 | P13: 0.49861111 | Q13: 0.53935185 | R13: 14.823133 | S13: 14.682981 | T13: 0.581875 | U13: 0.62261574
B14: 43 | D14: Borja ASENJO ANDRACA | E14: AGOI KILATES | F14: 0.4375 | G14: 0.49935185 | H14: 0.50042824 | I14: 0.0010763889 | J14: 0.061851852 | K14: 14.820359 | L14: 14.566857 | M14: GAIT 1 FASE | N14: ELIMINADO | O14: VETERINARIO | P14: 0.49861111 | Q14: 0.53935185 | R14: 14.820359 | S14: 14.566857 | T14: ELIMINADO | U14: ELIMINADO
B15: 46 | D15: Eva PECHARROMAN VEGA | E15: FLACO | F15: 0.4375 | G15: 0.49931713 | H15: 0.50039352 | I15: 0.0010763889 | J15: 0.06181713 | K15: 14.828684 | L15: 14.574899 | N15: 0.52122685 | P15: 0.49861111 | Q15: 0.53935185 | R15: 14.828684 | S15: 14.574899 | T15: 0.58233796 | U15: 0.6230787
B16: 42 | D16: Susana HEREDIA SANCHEZ | E16: CURNI BAR | F16: 0.4375 | G16: 0.49938657 | H16: 0.50700231 | I16: 0.0076157407 | J16: 0.061886574 | K16: 14.812044 | L16: 13.189009 | N16: 0.52783565 | P16: 0.49861111 | Q16: 0.53935185 | R16: 14.812044 | S16: 13.189009 | T16: 0.58894676 | U16: 0.6296875
B17: 48 | D17: Ruth GUILABERT SEGURA | E17: BISKRA-JAYF | F17: 0.4375 | G17: 0.4993287 | H17: 0.50065972 | I17: 0.0013310185 | J17: 0.061828704 | K17: 14.825908 | L17: 14.513469 | M17: GAIT 1 FASE | N17: ELIMINADO | O17: VETERINARIO | P17: 0.49861111 | Q17: 0.53935185 | R17: 14.825908 | S17: 14.513469 | T17: ELIMINADO | U17: ELIMINADO
B18: 49 | D18: Osertz LEJARRETA GARROGUERRICAECHEVARRIA | E18: ERE MIK DE DAHESSAN | F18: 0.4375 | G18: 0.499375 | H18: 0.5015162 | I18: 0.0021412037 | J18: 0.061875 | K18: 14.814815 | L18: 14.319291 | N18: 0.52234954 | P18: 0.49861111 | Q18: 0.53935185 | R18: 14.814815 | S18: 14.319291 | T18: 0.58346065 | U18: 0.62420139
B19: 44 | D19: Jorge NEGRETE GUTIERREZ | E19: REDBULL | F19: 0.4375 | G19: 0.49930556 | H19: 0.50091435 | I19: 0.0016087963 | J19: 0.061805556 | K19: 14.831461 | L19: 14.455193 | M19: GAIT 1 FASE | N19: ELIMINADO | O19: VETERINARIO | P19: 0.49861111 | Q19: 0.53935185 | R19: 14.831461 | S19: 14.455193 | T19: ELIMINADO | U19: ELIMINADO
B20: 47 | D20: Luis Maikel CUBAS ACOSTA | E20: NUR DA CAMOEIRA | F20: 0.4375 | G20: 0.51700231 | H20: 0.52074074 | I20: 0.0037384259 | J20: 0.079502315 | K20: 11.530063 | L20: 11.012236 | N20: 0.54157407 | P20: 0.49861111 | Q20: 0.53935185 | R20: 11.530063 | S20: 11.012236 | T20: 0.60268519 | U20: 0.64342593
F43: =IF(B43="","",RAID!$G$6)
F44: =IF(B44="","",RAID!$G$6)
F45: =IF(B45="","",RAID!$G$6)
F46: =IF(B46="","",RAID!$G$6)
F47: =IF(B47="","",RAID!$G$6)
F48: =IF(B48="","",RAID!$G$6)
F49: =IF(B49="","",RAID!$G$6)
F50: =IF(B50="","",RAID!$G$6)
F51: =IF(B51="","",RAID!$G$6)
F52: =IF(B52="","",RAID!$G$6)
F53: =IF(B53="","",RAID!$G$6)
F54: =IF(B54="","",RAID!$G$6)
... F104: =IF(B104="","",RAID!$G$6)

Sheet FASE 2
B2: =RAID!B2 -> RAID DE ARGANTZUN 40 KM
B3: =RAID!B3 -> ARGANTZUN 40 KM
B5: HORA DE SALIDA | E5: Vet-Gate | G5: TIEMPO PRESENTACION | J5: =HLOOKUP(INT($E$8),RAID!$B$14:$AJ$32,8,FALSE) -> 0.013888889 | L5: KM FASE | N5: =HLOOKUP(INT($E$8),RAID!$B$14:$AJ$32,5,FALSE) -> 22
B6: HORA MINIMA LLEGADA | E6: =HLOOKUP(INT($E$8),RAID!$B$14:$AJ$32,12,FALSE) -> 0.58055556 | G6: TIEMPO MINIMO MARCHA | J6: =HLOOKUP(INT($E$8),RAID!$B$14:$AJ$32,11,FALSE) -> 0.061111111 | L6: VEL MAX | N6: =HLOOKUP(INT($E$8),RAID!$B$14:$AJ$32,6,FALSE) -> 15
B7: HORA MAXIMA LLEGADA | E7: =HLOOKUP(INT($E$8),RAID!$B$14:$AJ$32,16,FALSE) -> 0.66203704 | G7: TIEMPO MAXIMO MARCHA | J7: =HLOOKUP(INT($E$8),RAID!$B$14:$AJ$32,15,FALSE) -> 0.10185185 | L7: VEL MIN | N7: =HLOOKUP(INT($E$8),RAID!$B$14:$AJ$32,7,FALSE) -> 9
B8: FASE | E8: =RIGHT(CELL("filename",A1),1) -> 2 | G8: DESCANSO FASE | J8: =HLOOKUP(INT($E$8),RAID!$B$14:$AJ$32,19,FALSE) -> 0
B10: DORSAL | C10: FEDER. | D10: JINETE | E10: CABALLO | F10: HORA SALIDA | G10: HORA LLEGADA | H10: HORA VET-GATE | I10: RECUPERACIÓN | J10: TIEMPO MARCHA | K10: VEL MARCHA | L10: VEL MEDIA | M10: VET | N10: HORA SALIDA | O10: RAZON | P10: HORA MINIMA LLEGADA | Q10: HORA MAXIMA DE LLEGADA | R10: VEL ACU MARCHA | S10: VEL ACU MEDIA | T10: HORA MINIMA DE LLEGADA F+1 | U10: HORA MAXIMA DE LLEGADA F+1
B11: 45 | D11: Diego RUIZ SAN ROMAN | E11: FYTY DE BELENE | F11: 0.52076389 | G11: 0.58269676 | H11: 0.58474537 | I11: 0.0020486111 | J11: 0.06193287 | K11: 14.800972 | L11: 14.327062 | N11: FINALIZADO | P11: 0.581875 | Q11: 0.62261574 | R11: 14.812044 | S11: 14.502838 | T11: FINALIZADO | U11: FINALIZADO
B12: 46 | D12: Eva PECHARROMAN VEGA | E12: FLACO | F12: 0.52122685 | G12: 0.58322917 | H12: 0.58475694 | I12: 0.0015277778 | J12: 0.062002315 | K12: 14.784394 | L12: 14.428858 | N12: FINALIZADO | P12: 0.58233796 | Q12: 0.6230787 | R12: 14.806506 | S12: 14.501511 | T12: FINALIZADO | U12: FINALIZADO
B13: 49 | D13: Osertz LEJARRETA GARROGUERRICAECHEVARRIA | E13: ERE MIK DE DAHESSAN | F13: 0.52234954 | G13: 0.58560185 | H13: 0.58773148 | I13: 0.0021296296 | J13: 0.063252315 | K13: 14.492223 | L13: 14.020181 | N13: FINALIZADO | P13: 0.58346065 | Q13: 0.62420139 | R13: 14.651744 | S13: 14.168157 | T13: FINALIZADO | U13: FINALIZADO
B14: 41 | D14: Antonio MICHAUS GALLARDO | E14: CALESI BAR | F14: 0.5253588 | G14: 0.59921296 | H14: 0.6044213 | I14: 0.0052083333 | J14: 0.073854167 | K14: 12.411848 | L14: 11.594203 | M14: METABOLICO | N14: ELIMINADO | O14: VETERINARIO | P14: 0.58646991 | Q14: 0.62721065 | R14: 13.508443 | S14: 12.549517 | T14: ELIMINADO | U14: ELIMINADO
B15: 42 | D15: Susana HEREDIA SANCHEZ | E15: CURNI BAR | F15: 0.52783565 | G15: 0.59922454 | H15: 0.6144213 | I15: 0.015196759 | J15: 0.071388889 | K15: 12.840467 | L15: 10.58682 | M15: METABOLICO | N15: ELIMINADO | O15: PULSO | P15: 0.58894676 | Q15: 0.6296875 | R15: 13.75597 | S15: 11.745514 | T15: ELIMINADO | U15: ELIMINADO
B16: 40 | D16: Nagore BALANZATEGI AGIRRE | E16: IPAKITO DEL VENT, AA 80,81 % | F16: 0.54155093 | G16: 0.62568287 | H16: 0.63030093 | I16: 0.0046180556 | J16: 0.084131944 | K16: 10.895584 | L16: 10.328638 | M16: GAIT 2 FASE | N16: ELIMINADO | O16: VETERINARIO | P16: 0.60266204 | Q16: 0.64340278 | R16: 11.323183 | S16: 10.660923 | T16: ELIMINADO | U16: ELIMINADO
B17: 47 | D17: Luis Maikel CUBAS ACOSTA | E17: NUR DA CAMOEIRA | F17: 0.54157407 | G17: 0.6255787 | H17: 0.63032407 | I17: 0.0047453704 | J17: 0.08400463 | K17: 10.912097 | L17: 10.328638 | N17: FINALIZADO | P17: 0.60268519 | Q17: 0.64342593 | R17: 11.212572 | S17: 10.659489 | T17: FINALIZADO | U17: FINALIZADO
B18: 43 | D18: Borja ASENJO ANDRACA | E18: AGOI KILATES | F18: ELIMINADO | P18: ELIMINADO | Q18: ELIMINADO
B19: 48 | D19: Ruth GUILABERT SEGURA | E19: BISKRA-JAYF | F19: ELIMINADO | P19: ELIMINADO | Q19: ELIMINADO
B20: 44 | D20: Jorge NEGRETE GUTIERREZ | E20: REDBULL | F20: ELIMINADO | P20: ELIMINADO | Q20: ELIMINADO

Sheet TOTAL
B2: =RAID!B2 -> RAID DE ARGANTZUN 40 KM
B3: =RAID!B3 -> ARGANTZUN 40 KM
C5: HORA DE SALIDA | D5: 0.41666667 | F5: TIEMPO PRESENTACION | I5: 0.013888889 | K5: KM FASE | M5: 18
C6: HORA MINIMA LLEGADA | D6: 0.61805556 | F6: TIEMPO MINIMO MARCHA | I6: 0.05 | K6: VEL MAX | M6: 15
C7: HORA MAXIMA LLEGADA | D7: 0.79427083 | F7: TIEMPO MAXIMO MARCHA | I7: 0.11197917 | K7: VEL MIN | M7: 8
C8: FASE | D8: FASE | F8: DESCANSO FASE | I8: 0.020833333
B10: DORSAL | C10: FEDER | D10: JINETE | E10: CABALLO | F10: TIEMPO TOTAL | G10: MARCHA TOTAL | H10: RECUP TOTAL | I10: VELOCIDAD MEDIA TOTAL | J10: MARCHA FASE 1 | K10: RECUP FASE 1 | L10: VELOCIDAD MEDIA FASE 1 | M10: MARCHA FASE 2 | N10: RECUP FASE 2 | O10: VELOCIDAD MEDIA FASE 2 | P10: MARCHA FASE 3 | Q10: RECUP FASE 3 | R10: VELOCIDAD MEDIA FASE 3 | S10: MARCHA FASE 4 | T10: RECUP FASE 4 | U10: VELOCIDAD MEDIA FASE 4 | V10: MARCHA FASE 5 | W10: RECUP FASE 5 | X10: VELOCIDAD MEDIA FASE 5 | Y10: MARCHA FASE 6 | Z10: RECUP FASE 6 | AA10: VELOCIDAD MEDIA FASE 6 | AB10: MARCHA FASE 7 | AC10: RECUP FASE 7 | AD10: VELOCIDAD MEDIA FASE 7 | AE10: MARCHA FASE 8 | AF10: RECUP FASE 8 | AG10: VELOCIDAD MEDIA FASE 8 | AH10: MARCHA FASE 9 | AI10: RECUP FASE 9 | AJ10: VELOCIDAD MEDIA FASE 9
A11: BC | B11: 45 | D11: Diego RUIZ SAN ROMAN | E11: FYTY DE BELENE | F11: 0.12641204 | G11: 0.12377315 | H11: 0.0026388889 | J11: 0.061840278 | K11: 0.00059027778 | L11: 14.823133 | M11: 0.06193287 | N11: 0.0020486111 | O11: 14.800972
B12: 46 | D12: Eva PECHARROMAN VEGA | E12: FLACO | F12: 0.12642361 | G12: 0.12381944 | H12: 0.0026041667 | J12: 0.06181713 | K12: 0.0010763889 | L12: 14.828684 | M12: 0.062002315 | N12: 0.0015277778 | O12: 14.784394
B13: 49 | D13: Osertz LEJARRETA GARROGUERRICAECHEVARRIA | E13: ERE MIK DE DAHESSAN | F13: 0.12939815 | G13: 0.12512731 | H13: 0.0042708333 | J13: 0.061875 | K13: 0.0021412037 | L13: 14.814815 | M13: 0.063252315 | N13: 0.0021296296 | O13: 14.492223
B14: 47 | D14: Luis Maikel CUBAS ACOSTA | E14: NUR DA CAMOEIRA | F14: 0.17199074 | G14: 0.16350694 | H14: 0.0084837963 | J14: 0.079502315 | K14: 0.0037384259 | L14: 11.530063 | M14: 0.08400463 | N14: 0.0047453704 | O14: 10.912097
B15: 41 | D15: Antonio MICHAUS GALLARDO | E15: CALESI BAR | F15: METABOLICO | G15: METABOLICO | H15: METABOLICO | J15: 0.061863426 | K15: 0.005162037 | L15: 14.817587 | M15: 0.073854167 | N15: 0.0052083333 | O15: 12.411848
B16: 42 | D16: Susana HEREDIA SANCHEZ | E16: CURNI BAR | F16: METABOLICO | G16: METABOLICO | H16: METABOLICO | J16: 0.061886574 | K16: 0.0076157407 | L16: 14.812044 | M16: 0.071388889 | N16: 0.015196759 | O16: 12.840467
B17: 40 | D17: Nagore BALANZATEGI AGIRRE | E17: IPAKITO DEL VENT, AA 80,81 % | F17: GAIT 2 FASE | G17: GAIT 2 FASE | H17: GAIT 2 FASE | J17: 0.077777778 | K17: 0.0054398148 | L17: 11.785714 | M17: 0.084131944 | N17: 0.0046180556 | O17: 10.895584
B18: 43 | D18: Borja ASENJO ANDRACA | E18: AGOI KILATES | F18: GAIT 1 FASE | G18: GAIT 1 FASE | H18: GAIT 1 FASE | J18: 0.061851852 | K18: 0.0010763889 | L18: 14.820359
B19: 48 | D19: Ruth GUILABERT SEGURA | E19: BISKRA-JAYF | F19: GAIT 1 FASE | G19: GAIT 1 FASE | H19: GAIT 1 FASE | J19: 0.061828704 | K19: 0.0013310185 | L19: 14.825908
B20: 44 | D20: Jorge NEGRETE GUTIERREZ | E20: REDBULL | F20: GAIT 1 FASE | G20: GAIT 1 FASE | H20: GAIT 1 FASE | J20: 0.061805556 | K20: 0.0016087963 | L20: 14.831461

Sheet ETIQUETA
A1: FASE | B1: 1 | C1: DORSAL | D1: 16
A2: SALIDA | B2: 0.4375 | C2: LLEGADA | D2: 0.49305556
A3: RECUPER | B3: 0.00085648148 | C3: VET-GATE | D3: 0.49391204
A4: T. MARCHA | B4: 0.055555556 | C4: V. MEDIA | D4: 14.772261
A5: H. SALIDA | B5: 0.51474537 | C5: VET
A6: H. MINIMA | B6: 0.57030093 | C6: H. MAXIMA | D6: 0.60733796
